BEGIN:VCALENDAR
VERSION:2.0
PRODID:-//Néoules - ECPv6.15.17.1//NONSGML v1.0//EN
CALSCALE:GREGORIAN
METHOD:PUBLISH
X-WR-CALNAME:Néoules
X-ORIGINAL-URL:https://neoules.fr
X-WR-CALDESC:Évènements pour Néoules
REFRESH-INTERVAL;VALUE=DURATION:PT1H
X-Robots-Tag:noindex
X-PUBLISHED-TTL:PT1H
BEGIN:VTIMEZONE
TZID:Europe/Paris
BEGIN:DAYLIGHT
TZOFFSETFROM:+0100
TZOFFSETTO:+0200
TZNAME:CEST
DTSTART:20240331T010000
END:DAYLIGHT
BEGIN:STANDARD
TZOFFSETFROM:+0200
TZOFFSETTO:+0100
TZNAME:CET
DTSTART:20241027T010000
END:STANDARD
BEGIN:DAYLIGHT
TZOFFSETFROM:+0100
TZOFFSETTO:+0200
TZNAME:CEST
DTSTART:20250330T010000
END:DAYLIGHT
BEGIN:STANDARD
TZOFFSETFROM:+0200
TZOFFSETTO:+0100
TZNAME:CET
DTSTART:20251026T010000
END:STANDARD
BEGIN:DAYLIGHT
TZOFFSETFROM:+0100
TZOFFSETTO:+0200
TZNAME:CEST
DTSTART:20260329T010000
END:DAYLIGHT
BEGIN:STANDARD
TZOFFSETFROM:+0200
TZOFFSETTO:+0100
TZNAME:CET
DTSTART:20261025T010000
END:STANDARD
END:VTIMEZONE
BEGIN:VEVENT
DTSTART;TZID=Europe/Paris:20250315T190000
DTEND;TZID=Europe/Paris:20250315T233000
DTSTAMP:20260420T115706
CREATED:20250207T133300Z
LAST-MODIFIED:20250211T131711Z
UID:18672-1742065200-1742081400@neoules.fr
SUMMARY:Fête de la Saint-Patrick
DESCRIPTION:Organisée par l’association la CLEF en partenariat avec la commune \nDîner et concert de musique irlandaise sur réservation \nRéservation | 07 83 94 31 96
URL:https://neoules.fr/event/fete-de-la-saint-patrick-3/
LOCATION:Salle polyvalente Jacques LUCIANI\, Néoules
ATTACH;FMTTYPE=image/png:https://neoules.fr/wp-content/uploads/2025/02/Saint-Patrick-2025-qualite-impression-002-complet.png
END:VEVENT
END:VCALENDAR